BEGIN:VCALENDAR
VERSION:2.0
PRODID:-//918 Bathurst - ECPv6.15.20//NONSGML v1.0//EN
CALSCALE:GREGORIAN
METHOD:PUBLISH
X-ORIGINAL-URL:https://918bathurst.com
X-WR-CALDESC:Events for 918 Bathurst
REFRESH-INTERVAL;VALUE=DURATION:PT1H
X-Robots-Tag:noindex
X-PUBLISHED-TTL:PT1H
BEGIN:VTIMEZONE
TZID:UTC
BEGIN:STANDARD
TZOFFSETFROM:+0000
TZOFFSETTO:+0000
TZNAME:UTC
DTSTART:20220101T000000
END:STANDARD
END:VTIMEZONE
BEGIN:VEVENT
DTSTART;TZID=UTC:20230517T090000
DTEND;TZID=UTC:20230530T170000
DTSTAMP:20260420T005238
CREATED:20230505T181445Z
LAST-MODIFIED:20230505T181445Z
UID:18528-1684314000-1685466000@918bathurst.com
SUMMARY:Andrew Zimbel: Whispers of the Ordinary - A Journey Through Captured Moments
DESCRIPTION:Artist Statement: On walks in the realm of the ordinary\, there lies hidden magic—a puddle’s twilight reflection\, forgotten remnants on a sidewalk\, a solitary lost glove\, light’s whimsical dance on unexpected surfaces. Through the lens of my iPhone and the alchemy of digital tools and editing apps\, I unveil an unseen world—a parallel universe of unintentional creation\, accidental beauty\, and striking imagery. This exhibition\, an ode to my 65 turns around the Sun\, invites you to witness the magic I see on my walks. \nAndrew Zimbel
URL:https://918bathurst.com/event/andrew-zimbel-whispers-of-the-ordinary-a-journey-through-captured-moments/
LOCATION:918 Bathurst: Culture\, Arts\, Media & Education\, 918 Bathurst Street\, Toronto\, ON\, M5R 3G5\, Canada
CATEGORIES:Event,Gallery
ATTACH;FMTTYPE=image/jpeg:https://918bathurst.com/wp-content/uploads/2023/05/2ac070f8-29c9-0933-112f-a9897fb86779.jpeg
END:VEVENT
BEGIN:VEVENT
DTSTART;TZID=UTC:20230530T170000
DTEND;TZID=UTC:20230530T210000
DTSTAMP:20260420T005238
CREATED:20230504T162857Z
LAST-MODIFIED:20230524T170544Z
UID:18515-1685466000-1685480400@918bathurst.com
SUMMARY:Mapping Futures
DESCRIPTION:Join us for the first ever live youth mental health podcast event on Tuesday May 30th for youth performances\, activities\, giveaways\, and a discussion about future anxiety. \n‘Mapping Futures’ will bring young people from diverse backgrounds together for a live podcast event that will include youth artists\, poets\, singers\, and other creatives to reflect on managing anxiety about the future. Pre-event workshop with Hailey Hechtman\, Taking a Strength-Based Approach to Mapping Your Future\, runs from 5pm – 6pm.” \nDetails: 5:00 – 6:00 pm Workshop\, 6:00 – 9:00 pm \nTickets: $20 or $25 including Workshop. Available on Eventbrite here. More info on our website here.
URL:https://918bathurst.com/event/mapping-futures/
LOCATION:918 Bathurst: Culture\, Arts\, Media & Education\, 918 Bathurst Street\, Toronto\, ON\, M5R 3G5\, Canada
CATEGORIES:Event,Featured Event
ATTACH;FMTTYPE=image/jpeg:https://918bathurst.com/wp-content/uploads/2023/05/mappingffuturess.jpg
END:VEVENT
END:VCALENDAR