BEGIN:VCALENDAR
VERSION:2.0
PRODID:-//918 Bathurst - ECPv6.15.20//NONSGML v1.0//EN
CALSCALE:GREGORIAN
METHOD:PUBLISH
X-ORIGINAL-URL:https://918bathurst.com
X-WR-CALDESC:Events for 918 Bathurst
REFRESH-INTERVAL;VALUE=DURATION:PT1H
X-Robots-Tag:noindex
X-PUBLISHED-TTL:PT1H
BEGIN:VTIMEZONE
TZID:UTC
BEGIN:STANDARD
TZOFFSETFROM:+0000
TZOFFSETTO:+0000
TZNAME:UTC
DTSTART:20220101T000000
END:STANDARD
END:VTIMEZONE
BEGIN:VEVENT
DTSTART;TZID=UTC:20230514T193000
DTEND;TZID=UTC:20230514T230000
DTSTAMP:20260420T201516
CREATED:20230504T152047Z
LAST-MODIFIED:20230504T152047Z
UID:18505-1684092600-1684105200@918bathurst.com
SUMMARY:Venus Fest presents Vivek Shraya
DESCRIPTION:918 Bathurst is thrilled to be hosting Vivek Shraya\, celebrating the release of her upcoming LP Baby\, You’re Projecting with Mint Records\, and a screening of her short film He Loves Me Until He Hates Me directed by Gabriela Osio Vanden. \nAll Ages\n$20 ADV / $25 DOOR\nGet tickets here!
URL:https://918bathurst.com/event/venus-fest-presents-vivek-shraya/
LOCATION:918 Bathurst: Culture\, Arts\, Media & Education\, 918 Bathurst Street\, Toronto\, ON\, M5R 3G5\, Canada
CATEGORIES:Event
ATTACH;FMTTYPE=image/jpeg:https://918bathurst.com/wp-content/uploads/2023/05/Vivek-Shraya_Upcoming.jpeg
END:VEVENT
END:VCALENDAR