BEGIN:VCALENDAR
VERSION:2.0
PRODID:-//918 Bathurst - ECPv6.15.20//NONSGML v1.0//EN
CALSCALE:GREGORIAN
METHOD:PUBLISH
X-WR-CALNAME:918 Bathurst
X-ORIGINAL-URL:https://918bathurst.com
X-WR-CALDESC:Events for 918 Bathurst
REFRESH-INTERVAL;VALUE=DURATION:PT1H
X-Robots-Tag:noindex
X-PUBLISHED-TTL:PT1H
BEGIN:VTIMEZONE
TZID:UTC
BEGIN:STANDARD
TZOFFSETFROM:+0000
TZOFFSETTO:+0000
TZNAME:UTC
DTSTART:20220101T000000
END:STANDARD
END:VTIMEZONE
BEGIN:VEVENT
DTSTART;VALUE=DATE:20230510
DTEND;VALUE=DATE:20230514
DTSTAMP:20260420T152156
CREATED:20230411T154507Z
LAST-MODIFIED:20230411T154507Z
UID:18494-1683676800-1684022399@918bathurst.com
SUMMARY:The Music Gallery Presents: What is Futurism
DESCRIPTION:From May 10th to 13th\, The Music Gallery Presents a 4 Day Festival exploring the threads that tie music together. \n  \n\nFrom The Music Gallery: \n“This year’s theme\, futurism\, reaches beyond genre and explores the complexities in dreaming for a future that may not promise to be so bright. It examines tropes\, probes necessary discourse\, encourages dreaming\, and embeds our sonic aspirations into the future.” \n\n  \nFor more information\, and to purchase tickets\, click here.
URL:https://918bathurst.com/event/the-music-gallery-presents-what-is-futurism/
LOCATION:918 Bathurst: Culture\, Arts\, Media & Education\, 918 Bathurst Street\, Toronto\, ON\, M5R 3G5\, Canada
CATEGORIES:Event,Featured Event
ATTACH;FMTTYPE=image/jpeg:https://918bathurst.com/wp-content/uploads/2023/04/mg2.jpg
END:VEVENT
END:VCALENDAR