BEGIN:VCALENDAR
VERSION:2.0
PRODID:-//918 Bathurst - ECPv6.15.20//NONSGML v1.0//EN
CALSCALE:GREGORIAN
METHOD:PUBLISH
X-ORIGINAL-URL:https://918bathurst.com
X-WR-CALDESC:Events for 918 Bathurst
REFRESH-INTERVAL;VALUE=DURATION:PT1H
X-Robots-Tag:noindex
X-PUBLISHED-TTL:PT1H
BEGIN:VTIMEZONE
TZID:UTC
BEGIN:STANDARD
TZOFFSETFROM:+0000
TZOFFSETTO:+0000
TZNAME:UTC
DTSTART:20210101T000000
END:STANDARD
END:VTIMEZONE
BEGIN:VEVENT
DTSTART;TZID=UTC:20220613T200000
DTEND;TZID=UTC:20220613T200000
DTSTAMP:20260421T003642
CREATED:20220228T184905Z
LAST-MODIFIED:20220228T184905Z
UID:18255-1655150400-1655150400@918bathurst.com
SUMMARY:Wavelength Presents: Circuit des Yeax & Picastro
DESCRIPTION:Circuit Des Yeux (Chicago / Matador Records) \nPicastro (Toronto / slowcore pioneers) \nJune 13\, 2022 \nProjections by General Chaos Visuals\nDecor by Roxanne Ignatius \nMonday\, June 13\, 2022\n@ 918 Bathurst Centre for Culture\, Arts\, Media & Education\n918 Bathurst St.\,Toronto \n$20 advance at ShowClix.com\nTickets on sale February 7th\, 10:00 AM\n*Note: tickets currently held at 50% capacity\, to be reassessed in the future. \nAll Ages / Licensed \n“Waiting for Summer” is feeling like a solstice-bearing catharsis to look forward to during these frigid months. With the expectation of returning to full capacity by June\, Wavelength is excited to be presenting Chicago’s Circuit Des Yeux and Toronto’s own Picastro at 918 Bathurst. \nChicago’s Circuit Des Yeux is a singular experimental-epic-pop weaver and brainchild of Haley Fohr. Her sixth album and debut for seminal indie label Matador Records\, -io\, was released in October 2021 to widespread critical acclaim (Pitchfork\, Mojo\, Uncut\, Dusted\, The Wire\, The Quietus\, Beats Per Minute). Expansive and emotional\, the album is a sonic footprint of how grief becomes a landscape. Written for a 23-piece orchestra and created during the pandemic\, Haley Fohr’s performance is bound to be arresting and poignantly transformative. \nStarting the evening will be Toronto’s slowcore staples\, Picastro. If you are not acquainted with the brilliance of Liz Hysen\, then today is your lucky day. Started in 1998 as a solo project by Hysen\, Picastro expands to include an ever-evolving array of collaborators\, who have included Owen Pallett\, Nick Storring\, and Brandon Valdivia (aka Mas Aya). Picastro’s latest release\, I’ve never met a stranger\, is an EP of touching covers\, created by friends; cultivated by the uncertainty of life during a pandemic and harnessing the magic of not knowing. \nCOVID Protocols: \nYour safety is our primary concern. Live event protocols are likely to change month to month. At this time\, audience members aged two and older are required to always wear face coverings while on the venue property\, except when actively eating and drinking. Proof of full vaccination minimum 2 weeks prior to the event is required to enter. \nAccessibility: \n918 Bathurst is not currently wheelchair accessible due to stairs (two half-flights to enter the performance space\, and one flight to access the washrooms). For all other accessibility requests\, please contact us at info@wavelengthmusic.ca \nAudience Policy: \nWavelength respects the rights of each member of our diverse audience and is committed to providing an environment in which everyone can feel safe. Any behaviour which could reasonably be perceived as physically\, emotionally\, or mentally harmful to individuals at Wavelength events will not be tolerated. This includes: racism\, sexism\, homophobia\, transphobia\, body shaming\, ableism\, ageism\, and all forms of violence. \nPlease be respectful of others and help Wavelength create a fun and safer space for everyone. If you need help\, or see others in need of help\, please talk to a Wavelength staff member or volunteer. \nFor information on Wavelength’s Code of Conduct and Anti-Harassment and Violence policies\, please go here.
URL:https://918bathurst.com/event/wavelength-presents-circuit-des-yeax-picastro/
LOCATION:918 Bathurst: Culture\, Arts\, Media & Education\, 918 Bathurst Street\, Toronto\, ON\, M5R 3G5\, Canada
CATEGORIES:Featured Event
ATTACH;FMTTYPE=image/jpeg:https://918bathurst.com/wp-content/uploads/2022/02/92386a72-fea0-45b9-80ce-a6001a4680b4.jpg
END:VEVENT
END:VCALENDAR