BEGIN:VCALENDAR
VERSION:2.0
PRODID:-//918 Bathurst - ECPv6.15.20//NONSGML v1.0//EN
CALSCALE:GREGORIAN
METHOD:PUBLISH
X-WR-CALNAME:918 Bathurst
X-ORIGINAL-URL:https://918bathurst.com
X-WR-CALDESC:Events for 918 Bathurst
REFRESH-INTERVAL;VALUE=DURATION:PT1H
X-Robots-Tag:noindex
X-PUBLISHED-TTL:PT1H
BEGIN:VTIMEZONE
TZID:UTC
BEGIN:STANDARD
TZOFFSETFROM:+0000
TZOFFSETTO:+0000
TZNAME:UTC
DTSTART:20180101T000000
END:STANDARD
END:VTIMEZONE
BEGIN:VEVENT
DTSTART;TZID=UTC:20190816T200000
DTEND;TZID=UTC:20190818T010000
DTSTAMP:20260420T010042
CREATED:20190724T164644Z
LAST-MODIFIED:20190820T190525Z
UID:17905-1565985600-1566090000@918bathurst.com
SUMMARY:Spoken Soul Fest
DESCRIPTION:The SpokenSoulTO Collective is an ongoing artistic collaboration between Dwayne Morgan\, Paulina O’Kieffe-Anthony and Randell Adjei\, three of Toronto’s highly recognized singers\, musicians\, spoken word artists\, poets\, authors and event producers. \nPurchase tickets at https://spokensoulfest.com/. \nFriday August 16th\, 2019 \nBlack Guitars: Black guitars is a showcase featuring singers accompanied by acoustic guitar \nSpoken Soul After Dark: Spoken Soul After Dark is a showcase featuring erotic poetry\, soul and RnB music. Fllowin the showcase the event will move into the official opening party of the festival featuring a live DJ to dance the night away. \nSaturday August 17th\, 2019 \nBlack Womyn of the Word: Black Womyn of the Word is an open mic and SLAM showcasing all Black Womyn poets performing poetry while competing for a cash prize. \nGriots and Songbirds Showcase: Griots and Songbirds features collaborative performances between some of the top poets and singers in the City and beyond. Feature Performance by Tika Simone. \nSunday August 18th\, 2019 \nToronto International Poetry Slam: Toronto International Poetry SLAM returns to Toronto. Started in 2003\, this competitoin puts spoken word artists from across North America and europe against one another for $1\,000 US in cash.
URL:https://918bathurst.com/event/spoken-soul-fest-2/2019-08-16/
LOCATION:918 Bathurst: Culture\, Arts\, Media & Education\, 918 Bathurst Street\, Toronto\, ON\, M5R 3G5\, Canada
ATTACH;FMTTYPE=image/jpeg:https://918bathurst.com/wp-content/uploads/2019/07/Spoken-Soul-Fest.jpg
END:VEVENT
END:VCALENDAR